BEGIN:VCALENDAR
VERSION:2.0
PRODID:-//Post Oak Savannah GCD - ECPv6.15.20//NONSGML v1.0//EN
CALSCALE:GREGORIAN
METHOD:PUBLISH
X-WR-CALNAME:Post Oak Savannah GCD
X-ORIGINAL-URL:https://posgcd.org
X-WR-CALDESC:Events for Post Oak Savannah GCD
REFRESH-INTERVAL;VALUE=DURATION:PT1H
X-Robots-Tag:noindex
X-PUBLISHED-TTL:PT1H
BEGIN:VTIMEZONE
TZID:America/North_Dakota/Center
BEGIN:DAYLIGHT
TZOFFSETFROM:-0600
TZOFFSETTO:-0500
TZNAME:CDT
DTSTART:20240310T080000
END:DAYLIGHT
BEGIN:STANDARD
TZOFFSETFROM:-0500
TZOFFSETTO:-0600
TZNAME:CST
DTSTART:20241103T070000
END:STANDARD
BEGIN:DAYLIGHT
TZOFFSETFROM:-0600
TZOFFSETTO:-0500
TZNAME:CDT
DTSTART:20250309T080000
END:DAYLIGHT
BEGIN:STANDARD
TZOFFSETFROM:-0500
TZOFFSETTO:-0600
TZNAME:CST
DTSTART:20251102T070000
END:STANDARD
BEGIN:DAYLIGHT
TZOFFSETFROM:-0600
TZOFFSETTO:-0500
TZNAME:CDT
DTSTART:20260308T080000
END:DAYLIGHT
BEGIN:STANDARD
TZOFFSETFROM:-0500
TZOFFSETTO:-0600
TZNAME:CST
DTSTART:20261101T070000
END:STANDARD
END:VTIMEZONE
BEGIN:VTIMEZONE
TZID:America/Chicago
BEGIN:DAYLIGHT
TZOFFSETFROM:-0600
TZOFFSETTO:-0500
TZNAME:CDT
DTSTART:20240310T080000
END:DAYLIGHT
BEGIN:STANDARD
TZOFFSETFROM:-0500
TZOFFSETTO:-0600
TZNAME:CST
DTSTART:20241103T070000
END:STANDARD
BEGIN:DAYLIGHT
TZOFFSETFROM:-0600
TZOFFSETTO:-0500
TZNAME:CDT
DTSTART:20250309T080000
END:DAYLIGHT
BEGIN:STANDARD
TZOFFSETFROM:-0500
TZOFFSETTO:-0600
TZNAME:CST
DTSTART:20251102T070000
END:STANDARD
BEGIN:DAYLIGHT
TZOFFSETFROM:-0600
TZOFFSETTO:-0500
TZNAME:CDT
DTSTART:20260308T080000
END:DAYLIGHT
BEGIN:STANDARD
TZOFFSETFROM:-0500
TZOFFSETTO:-0600
TZNAME:CST
DTSTART:20261101T070000
END:STANDARD
END:VTIMEZONE
BEGIN:VEVENT
DTSTART;TZID=America/North_Dakota/Center:20251114T100000
DTEND;TZID=America/North_Dakota/Center:20251114T113000
DTSTAMP:20260421T042915
CREATED:20251028T203704Z
LAST-MODIFIED:20251028T203929Z
UID:10000728-1763114400-1763119800@posgcd.org
SUMMARY:GMA 8 Meeting
DESCRIPTION:Agenda \nGMA 8 Website\n\n 
URL:https://posgcd.org/event/gma8-2511/
LOCATION:Prairielands Groundwater Conservation District Office\, 208 Kimberly Dr\, Cleburne\, TX\, 76301\, United States
CATEGORIES:GMA Meetings,Public Notices
END:VEVENT
BEGIN:VEVENT
DTSTART;TZID=America/Chicago:20251118T173000
DTEND;TZID=America/Chicago:20251118T203000
DTSTAMP:20260421T042915
CREATED:20251014T212300Z
LAST-MODIFIED:20251112T212812Z
UID:10000725-1763487000-1763497800@posgcd.org
SUMMARY:Board Meeting & Public Hearings (Rules\, Management Plan\, Budget\, & Fees)
DESCRIPTION:Virtual Meeting Access: https://meet.goto.com/POSGCD/meetings\nUnited States: +1 (646) 749-3129\nAccess Code:  453-007-493 \n\nAgenda\nMeeting Materials\n\n\nPublic Hearing – Proposed Amendments to District Rules \n\nNotice of Public Hearing – District Rules\nProposed Amendments – District Rules\n\nPublic Hearing – Proposed Amendments to District Management Plan \n\nNotice of Public Hearing – District Management Plan\nProposed Amendments – Management Plan\n\nPublic Hearing – Proposed 2026 Budget and Fee Schedule \n\nNotice of Public Hearing – 2026 Budget and Fees\nProposed Budget\nProposed Fees\n\n 
URL:https://posgcd.org/event/bm-2511/
CATEGORIES:Board Meetings,Public Notices
ATTACH;FMTTYPE=image/jpeg:https://posgcd.org/wp-content/uploads/2024/04/POSGCD-Board-Meeting-Feature-1080px-1.jpg
ORGANIZER;CN="Post Oak Savannah GCD":MAILTO:admin@posgcd.org
END:VEVENT
BEGIN:VEVENT
DTSTART;TZID=America/North_Dakota/Center:20251120T100000
DTEND;TZID=America/North_Dakota/Center:20251120T120000
DTSTAMP:20260421T042915
CREATED:20251104T164028Z
LAST-MODIFIED:20251104T164608Z
UID:10000729-1763632800-1763640000@posgcd.org
SUMMARY:GMA 12 Meeting
DESCRIPTION:Agenda\nMeeting Materials
URL:https://posgcd.org/event/gma-12-meeting-12/
LOCATION:Post Oak Savannah GCD District Office\, 310 E Ave C\, Milano\, TX\, 76556\, United States
CATEGORIES:GMA Meetings,Public Notices
GEO:30.7110919;-96.8623241
X-APPLE-STRUCTURED-LOCATION;VALUE=URI;X-ADDRESS=Post Oak Savannah GCD District Office 310 E Ave C Milano TX 76556 United States;X-APPLE-RADIUS=500;X-TITLE=310 E Ave C:geo:-96.8623241,30.7110919
END:VEVENT
BEGIN:VEVENT
DTSTART;VALUE=DATE:20251127
DTEND;VALUE=DATE:20251129
DTSTAMP:20260421T042915
CREATED:20240422T142710Z
LAST-MODIFIED:20240422T143837Z
UID:10000600-1764201600-1764374399@posgcd.org
SUMMARY:Office Closed - Thanksgiving
DESCRIPTION:
URL:https://posgcd.org/event/office-closed-thanksgiving/2025-11-27/
ATTACH;FMTTYPE=image/png:https://posgcd.org/wp-content/uploads/2024/04/Our-offices-will-be-closed-Nov.-24-Nov.-25.png
END:VEVENT
END:VCALENDAR