BEGIN:VCALENDAR
VERSION:2.0
PRODID:-//Post Oak Savannah GCD - ECPv6.15.20//NONSGML v1.0//EN
CALSCALE:GREGORIAN
METHOD:PUBLISH
X-ORIGINAL-URL:https://posgcd.org
X-WR-CALDESC:Events for Post Oak Savannah GCD
REFRESH-INTERVAL;VALUE=DURATION:PT1H
X-Robots-Tag:noindex
X-PUBLISHED-TTL:PT1H
BEGIN:VTIMEZONE
TZID:America/Chicago
BEGIN:DAYLIGHT
TZOFFSETFROM:-0600
TZOFFSETTO:-0500
TZNAME:CDT
DTSTART:20230312T080000
END:DAYLIGHT
BEGIN:STANDARD
TZOFFSETFROM:-0500
TZOFFSETTO:-0600
TZNAME:CST
DTSTART:20231105T070000
END:STANDARD
BEGIN:DAYLIGHT
TZOFFSETFROM:-0600
TZOFFSETTO:-0500
TZNAME:CDT
DTSTART:20240310T080000
END:DAYLIGHT
BEGIN:STANDARD
TZOFFSETFROM:-0500
TZOFFSETTO:-0600
TZNAME:CST
DTSTART:20241103T070000
END:STANDARD
BEGIN:DAYLIGHT
TZOFFSETFROM:-0600
TZOFFSETTO:-0500
TZNAME:CDT
DTSTART:20250309T080000
END:DAYLIGHT
BEGIN:STANDARD
TZOFFSETFROM:-0500
TZOFFSETTO:-0600
TZNAME:CST
DTSTART:20251102T070000
END:STANDARD
END:VTIMEZONE
BEGIN:VEVENT
DTSTART;VALUE=DATE:20240902
DTEND;VALUE=DATE:20240903
DTSTAMP:20260422T013247
CREATED:20240422T142606Z
LAST-MODIFIED:20240422T145018Z
UID:10000594-1725235200-1725321599@posgcd.org
SUMMARY:Office Closed - Labor Day
DESCRIPTION:
URL:https://posgcd.org/event/office-closed-labor-day/2024-09-02/
ATTACH;FMTTYPE=image/png:https://posgcd.org/wp-content/uploads/2024/04/LaborDay_POSGCD1.png
END:VEVENT
BEGIN:VEVENT
DTSTART;TZID=America/Chicago:20240905T100000
DTEND;TZID=America/Chicago:20240905T120000
DTSTAMP:20260422T013247
CREATED:20240815T133016Z
LAST-MODIFIED:20240815T133049Z
UID:10000615-1725530400-1725537600@posgcd.org
SUMMARY:Groundwater Management Area 8 Meeting
DESCRIPTION:Agenda
URL:https://posgcd.org/event/groundwater-management-area-8-meeting/
LOCATION:Prairielands Groundwater Conservation District Office\, 208 Kimberly Dr\, Cleburne\, TX\, 76301\, United States
CATEGORIES:GMA Meetings
END:VEVENT
BEGIN:VEVENT
DTSTART;TZID=America/Chicago:20240910T173000
DTEND;TZID=America/Chicago:20240910T203000
DTSTAMP:20260422T013247
CREATED:20240422T134304Z
LAST-MODIFIED:20251008T204341Z
UID:10000528-1725989400-1726000200@posgcd.org
SUMMARY:Board Meeting
DESCRIPTION:Click here for meeting information
URL:https://posgcd.org/event/board-meeting-4/2024-09-10/
CATEGORIES:Board Meetings,Public Notices
ATTACH;FMTTYPE=image/jpeg:https://posgcd.org/wp-content/uploads/2024/04/POSGCD-Board-Meeting-Feature-1080px-1.jpg
ORGANIZER;CN="Post Oak Savannah GCD":MAILTO:admin@posgcd.org
END:VEVENT
BEGIN:VEVENT
DTSTART;TZID=America/Chicago:20240919T110000
DTEND;TZID=America/Chicago:20240919T140000
DTSTAMP:20260422T013247
CREATED:20240730T154337Z
LAST-MODIFIED:20250509T172621Z
UID:10000613-1726743600-1726754400@posgcd.org
SUMMARY:Groundwater Rights for Real Estate Seminar
DESCRIPTION:Oops! We could not locate your form.
URL:https://posgcd.org/event/real-estate-2024/
LOCATION:Caldwell Civic Center\, 103 Texas 21\, Caldwell\, TX\, 77836\, United States
CATEGORIES:Workshops, Seminars, Summits
ORGANIZER;CN="Post Oak Savannah GCD":MAILTO:admin@posgcd.org
GEO:30.5341988;-96.6958628
X-APPLE-STRUCTURED-LOCATION;VALUE=URI;X-ADDRESS=Caldwell Civic Center 103 Texas 21 Caldwell TX 77836 United States;X-APPLE-RADIUS=500;X-TITLE=103 Texas 21:geo:-96.6958628,30.5341988
END:VEVENT
BEGIN:VEVENT
DTSTART;TZID=America/Chicago:20240920T100000
DTEND;TZID=America/Chicago:20240920T120000
DTSTAMP:20260422T013247
CREATED:20240911T185312Z
LAST-MODIFIED:20240911T185344Z
UID:10000619-1726826400-1726833600@posgcd.org
SUMMARY:GMA 12 Meeting
DESCRIPTION:https://posgcd.org/agendas-minutes/gma-12-agendas-minutes/
URL:https://posgcd.org/event/gma-12-meeting-10/
LOCATION:Post Oak Savannah GCD District Office\, 310 E Ave C\, Milano\, TX\, 76556\, United States
CATEGORIES:GMA Meetings,Joint & Regional Planning
GEO:30.7110919;-96.8623241
X-APPLE-STRUCTURED-LOCATION;VALUE=URI;X-ADDRESS=Post Oak Savannah GCD District Office 310 E Ave C Milano TX 76556 United States;X-APPLE-RADIUS=500;X-TITLE=310 E Ave C:geo:-96.8623241,30.7110919
END:VEVENT
END:VCALENDAR