BEGIN:VCALENDAR
VERSION:2.0
PRODID:-//Post Oak Savannah GCD - ECPv6.15.20//NONSGML v1.0//EN
CALSCALE:GREGORIAN
METHOD:PUBLISH
X-ORIGINAL-URL:https://posgcd.org
X-WR-CALDESC:Events for Post Oak Savannah GCD
REFRESH-INTERVAL;VALUE=DURATION:PT1H
X-Robots-Tag:noindex
X-PUBLISHED-TTL:PT1H
BEGIN:VTIMEZONE
TZID:America/Chicago
BEGIN:DAYLIGHT
TZOFFSETFROM:-0600
TZOFFSETTO:-0500
TZNAME:CDT
DTSTART:20230312T080000
END:DAYLIGHT
BEGIN:STANDARD
TZOFFSETFROM:-0500
TZOFFSETTO:-0600
TZNAME:CST
DTSTART:20231105T070000
END:STANDARD
BEGIN:DAYLIGHT
TZOFFSETFROM:-0600
TZOFFSETTO:-0500
TZNAME:CDT
DTSTART:20240310T080000
END:DAYLIGHT
BEGIN:STANDARD
TZOFFSETFROM:-0500
TZOFFSETTO:-0600
TZNAME:CST
DTSTART:20241103T070000
END:STANDARD
BEGIN:DAYLIGHT
TZOFFSETFROM:-0600
TZOFFSETTO:-0500
TZNAME:CDT
DTSTART:20250309T080000
END:DAYLIGHT
BEGIN:STANDARD
TZOFFSETFROM:-0500
TZOFFSETTO:-0600
TZNAME:CST
DTSTART:20251102T070000
END:STANDARD
END:VTIMEZONE
BEGIN:VEVENT
DTSTART;TZID=America/Chicago:20240611T173000
DTEND;TZID=America/Chicago:20240611T203000
DTSTAMP:20260422T052243
CREATED:20240607T220113Z
LAST-MODIFIED:20240607T220201Z
UID:10000525-1718127000-1718137800@posgcd.org
SUMMARY:Public Hearing and Board Meeting
DESCRIPTION:  \nhttps://posgcd.org/agendas-minutes/agendas-minutes/
URL:https://posgcd.org/event/bm-2406/
LOCATION:Post Oak Savannah GCD District Office\, 310 E Ave C\, Milano\, TX\, 76556\, United States
CATEGORIES:Board Meetings
ATTACH;FMTTYPE=image/png:https://posgcd.org/wp-content/uploads/2024/04/Copy-of-Copy-of-Copy-of-MBM-Today-april-2022.png
ORGANIZER;CN="Post Oak Savannah GCD":MAILTO:admin@posgcd.org
GEO:30.7110919;-96.8623241
X-APPLE-STRUCTURED-LOCATION;VALUE=URI;X-ADDRESS=Post Oak Savannah GCD District Office 310 E Ave C Milano TX 76556 United States;X-APPLE-RADIUS=500;X-TITLE=310 E Ave C:geo:-96.8623241,30.7110919
END:VEVENT
BEGIN:VEVENT
DTSTART;VALUE=DATE:20240620
DTEND;VALUE=DATE:20240704
DTSTAMP:20260422T052243
CREATED:20240405T195112Z
LAST-MODIFIED:20240422T143338Z
UID:10000519-1718841600-1720051199@posgcd.org
SUMMARY:Annual Well Water Sampling - Accepting Samples
DESCRIPTION:
URL:https://posgcd.org/event/annual-well-water-sampling-accepting-samples/
ATTACH;FMTTYPE=image/png:https://posgcd.org/wp-content/uploads/2024/04/Well-Water-Testing-2023.png
END:VEVENT
END:VCALENDAR