BEGIN:VCALENDAR
VERSION:2.0
PRODID:-//Post Oak Savannah GCD - ECPv6.15.20//NONSGML v1.0//EN
CALSCALE:GREGORIAN
METHOD:PUBLISH
X-WR-CALNAME:Post Oak Savannah GCD
X-ORIGINAL-URL:https://posgcd.org
X-WR-CALDESC:Events for Post Oak Savannah GCD
REFRESH-INTERVAL;VALUE=DURATION:PT1H
X-Robots-Tag:noindex
X-PUBLISHED-TTL:PT1H
BEGIN:VTIMEZONE
TZID:America/Chicago
BEGIN:DAYLIGHT
TZOFFSETFROM:-0600
TZOFFSETTO:-0500
TZNAME:CDT
DTSTART:20230312T080000
END:DAYLIGHT
BEGIN:STANDARD
TZOFFSETFROM:-0500
TZOFFSETTO:-0600
TZNAME:CST
DTSTART:20231105T070000
END:STANDARD
BEGIN:DAYLIGHT
TZOFFSETFROM:-0600
TZOFFSETTO:-0500
TZNAME:CDT
DTSTART:20240310T080000
END:DAYLIGHT
BEGIN:STANDARD
TZOFFSETFROM:-0500
TZOFFSETTO:-0600
TZNAME:CST
DTSTART:20241103T070000
END:STANDARD
BEGIN:DAYLIGHT
TZOFFSETFROM:-0600
TZOFFSETTO:-0500
TZNAME:CDT
DTSTART:20250309T080000
END:DAYLIGHT
BEGIN:STANDARD
TZOFFSETFROM:-0500
TZOFFSETTO:-0600
TZNAME:CST
DTSTART:20251102T070000
END:STANDARD
END:VTIMEZONE
BEGIN:VEVENT
DTSTART;VALUE=DATE:20240501
DTEND;VALUE=DATE:20240502
DTSTAMP:20260422T064513
CREATED:20231005T184827Z
LAST-MODIFIED:20240422T143126Z
UID:10000505-1714521600-1714607999@posgcd.org
SUMMARY:4-H Water Ambassadors - Applications Close!
DESCRIPTION:Texas 4-H Water Ambassadors Program\n\n View more information and apply – here.\nQuestions about the program or application?\nContact the Program Coordinator:\nDavid Smith\n(979) 862-1989\ndavidsmith@tamu.edu\nhttps://www.texas4hwaterambassadors.com/\n\nImportant Dates and Timelines \n\n\n\nMarch 15\, 2024 – Applications open\nMay 1\, 2024 – Application close\nMay 10\, 2024 – Applicant notified of acceptance status\nJune 1\, 2024- $300 participation fee due*\nJune 9-13\, 2024 – Tier I 4-H2O Leadership Academy (tour)\n\n\n\n4H20 Scholarship Program\nPost Oak Savannah Groundwater Conservation District offers a scholarship to students in Burleson and Milam Counties who are accepted and active in the Texas 4-H Water Ambassador Program (4-H2O). The scholarship is intended to support and encourage the exploration of diverse career paths in the water industry and to invest in the development of future leaders in the industry. Apply Here \n  \n\n  \n  \n 
URL:https://posgcd.org/event/4-h-water-ambassadors-applications-close/
ATTACH;FMTTYPE=image/webp:https://posgcd.org/wp-content/uploads/2023/10/Logo_9182018.webp
END:VEVENT
BEGIN:VEVENT
DTSTART;TZID=America/Chicago:20240501T110000
DTEND;TZID=America/Chicago:20240501T170000
DTSTAMP:20260422T064513
CREATED:20240410T195019Z
LAST-MODIFIED:20240429T162558Z
UID:10000522-1714561200-1714582800@posgcd.org
SUMMARY:(Canceled) Water Well Drillers CEU Class - TGWA
DESCRIPTION:Attention Water Well Drillers: Meet your continuing education requirements at our upcoming class in Milano\, TX. Hosted by Post Oak Savannah GCD and presented by the Texas Groundwater Association\, this session on May 1\, 2024\, offers a comprehensive program tailored to professional growth. – Register HERE. \nMore information on the Texas Ground Water Association page HERE. \n\n\n\n\n\n11:00 AM – 12:00 PM\n\n\nCheck-in\n\n\n\n\n12:00 PM – 1:00 PM \n\n\nWWD/PI Statutes and Rules (Course #28260)\nChris Hooyboer\, Hydrologist\, TDLR WWD/PI Program\n\n\n\n\n1:00 PM – 2:00 PM\n\n\nGroundwater Management in Texas (Course #27807)\nGary Westbrook\, POSGCD General Manager\n\n\n\n\n2:00 PM – 3:00 PM \n\n\nWater Well Rehab – Chemical & Application (Course #26537)\nDawn Hatley\, Cotey Chemical\n\n\n\n\n3:00 PM – 4:00 PM\n\n\nTBD\nTBD\n\n\n\n 
URL:https://posgcd.org/event/tgwa-ceu-2405/
LOCATION:Post Oak Savannah GCD District Office\, 310 E Ave C\, Milano\, TX\, 76556\, United States
CATEGORIES:Workshops, Seminars, Summits
ATTACH;FMTTYPE=image/png:https://posgcd.org/wp-content/uploads/2024/04/tgwacirclefilled.png
GEO:30.7110919;-96.8623241
X-APPLE-STRUCTURED-LOCATION;VALUE=URI;X-ADDRESS=Post Oak Savannah GCD District Office 310 E Ave C Milano TX 76556 United States;X-APPLE-RADIUS=500;X-TITLE=310 E Ave C:geo:-96.8623241,30.7110919
END:VEVENT
BEGIN:VEVENT
DTSTART;TZID=America/Chicago:20240502T090000
DTEND;TZID=America/Chicago:20240502T110000
DTSTAMP:20260422T064513
CREATED:20230814T214511Z
LAST-MODIFIED:20240422T143516Z
UID:10000498-1714640400-1714647600@posgcd.org
SUMMARY:Rainwater Harvesting 101 class
DESCRIPTION:Learn the basics of rainwater collection and how to DIY a system with AgriLife Specialist John Smith from Texas A&M Soil and Crop Sciences! Attendees will: \n\nDiscuss design options and learn about the necessary components for a successful system\nDifferent uses of rainwater\nHow to calculate size and storage needs to meet usage goals\nDemonstrations\, examples\, and a tour of the District’s wet and dry rainwater systems\nRainwater as an alternative water source and a method of conservation – by reducing demands on existing water supplies like our aquifers and wells\, reducing run-off/erosion\, and preventing contamination of surface water\nCompletion of this course meets one of the eligibility requirements of the Post Oak Savannah GCD Rainwater Harvesting Rebate program. View the grant program guidelines – here.\n\nDue to high attendance\, this class has a limited number of seats available. Don’t forget to register to reserve your seat and please let us know if you need to cancel in advance. Thank you!
URL:https://posgcd.org/event/rwh-2405/
LOCATION:Post Oak Savannah GCD District Office\, 310 E Ave C\, Milano\, TX\, 76556\, United States
CATEGORIES:Workshops, Seminars, Summits
ATTACH;FMTTYPE=image/png:https://posgcd.org/wp-content/uploads/2023/08/unnamed.png
ORGANIZER;CN="Texas Water Resources Institute%2C Texas A&M Agrilife Extension Service":MAILTO:Jaclyn.robertson@ag.tamu.edu
GEO:30.7110919;-96.8623241
X-APPLE-STRUCTURED-LOCATION;VALUE=URI;X-ADDRESS=Post Oak Savannah GCD District Office 310 E Ave C Milano TX 76556 United States;X-APPLE-RADIUS=500;X-TITLE=310 E Ave C:geo:-96.8623241,30.7110919
END:VEVENT
BEGIN:VEVENT
DTSTART;VALUE=DATE:20240510
DTEND;VALUE=DATE:20240511
DTSTAMP:20260422T064513
CREATED:20231005T185103Z
LAST-MODIFIED:20240422T143201Z
UID:10000506-1715299200-1715385599@posgcd.org
SUMMARY:4-H Water Ambassadors - Notifications of Acceptance
DESCRIPTION:Texas 4-H Water Ambassadors Program\n\n View more information and apply – here.\nQuestions about the program or application?\nContact the Program Coordinator:\nDavid Smith\n(979) 862-1989\ndavidsmith@tamu.edu\nhttps://www.texas4hwaterambassadors.com/\n\nImportant Dates and Timelines \n\n\n\nMarch 15\, 2024 – Applications open\nMay 1\, 2024 – Application close\nMay 10\, 2024 – Applicant notified of acceptance status\nJune 1\, 2024- $300 participation fee due*\nJune 9-13\, 2024 – Tier I 4-H2O Leadership Academy (tour)\n\n\n\n4H20 Scholarship Program\nPost Oak Savannah Groundwater Conservation District offers a scholarship to students in Burleson and Milam Counties who are accepted and active in the Texas 4-H Water Ambassador Program (4-H2O). The scholarship is intended to support and encourage the exploration of diverse career paths in the water industry and to invest in the development of future leaders in the industry. Apply Here \n  \n\n  \n  \n 
URL:https://posgcd.org/event/4-h-water-ambassadors-notifications-of-acceptance/
ATTACH;FMTTYPE=image/webp:https://posgcd.org/wp-content/uploads/2023/10/Logo_9182018.webp
END:VEVENT
BEGIN:VEVENT
DTSTART;TZID=America/Chicago:20240514T173000
DTEND;TZID=America/Chicago:20240514T203000
DTSTAMP:20260422T064513
CREATED:20240422T134304Z
LAST-MODIFIED:20251008T204341Z
UID:10000524-1715707800-1715718600@posgcd.org
SUMMARY:Board Meeting
DESCRIPTION:Click here for meeting information
URL:https://posgcd.org/event/board-meeting-4/2024-05-14/
CATEGORIES:Board Meetings,Public Notices
ATTACH;FMTTYPE=image/jpeg:https://posgcd.org/wp-content/uploads/2024/04/POSGCD-Board-Meeting-Feature-1080px-1.jpg
ORGANIZER;CN="Post Oak Savannah GCD":MAILTO:admin@posgcd.org
END:VEVENT
BEGIN:VEVENT
DTSTART;TZID=America/Chicago:20240515T100000
DTEND;TZID=America/Chicago:20240515T113000
DTSTAMP:20260422T064513
CREATED:20240405T195409Z
LAST-MODIFIED:20250509T172445Z
UID:10000521-1715767200-1715772600@posgcd.org
SUMMARY:GMA 8 Meeting
DESCRIPTION:Agenda
URL:https://posgcd.org/event/gma-8-meeting-4/
LOCATION:Prairielands Groundwater Conservation District Office\, 208 Kimberly Dr\, Cleburne\, TX\, 76301\, United States
CATEGORIES:GMA Meetings
END:VEVENT
BEGIN:VEVENT
DTSTART;TZID=America/Chicago:20240523T100000
DTEND;TZID=America/Chicago:20240523T123000
DTSTAMP:20260422T064513
CREATED:20240506T201133Z
LAST-MODIFIED:20250509T172439Z
UID:10000609-1716458400-1716467400@posgcd.org
SUMMARY:GMA 12 Meeting
DESCRIPTION:Agenda
URL:https://posgcd.org/event/gma-12-meeting-9/
LOCATION:Post Oak Savannah GCD District Office\, 310 E Ave C\, Milano\, TX\, 76556\, United States
CATEGORIES:GMA Meetings
GEO:30.7110919;-96.8623241
X-APPLE-STRUCTURED-LOCATION;VALUE=URI;X-ADDRESS=Post Oak Savannah GCD District Office 310 E Ave C Milano TX 76556 United States;X-APPLE-RADIUS=500;X-TITLE=310 E Ave C:geo:-96.8623241,30.7110919
END:VEVENT
BEGIN:VEVENT
DTSTART;VALUE=DATE:20240527
DTEND;VALUE=DATE:20240528
DTSTAMP:20260422T064513
CREATED:20240422T142441Z
LAST-MODIFIED:20240422T142950Z
UID:10000584-1716768000-1716854399@posgcd.org
SUMMARY:Office Closed - Memorial Day
DESCRIPTION:
URL:https://posgcd.org/event/office-closed-memorial-day/2024-05-27/
ATTACH;FMTTYPE=image/png:https://posgcd.org/wp-content/uploads/2024/04/Black-Simple-Flag-Memorial-Day-Facebook-Post.png
END:VEVENT
END:VCALENDAR