BEGIN:VCALENDAR
VERSION:2.0
PRODID:-//Post Oak Savannah GCD - ECPv6.15.20//NONSGML v1.0//EN
CALSCALE:GREGORIAN
METHOD:PUBLISH
X-ORIGINAL-URL:https://posgcd.org
X-WR-CALDESC:Events for Post Oak Savannah GCD
REFRESH-INTERVAL;VALUE=DURATION:PT1H
X-Robots-Tag:noindex
X-PUBLISHED-TTL:PT1H
BEGIN:VTIMEZONE
TZID:America/Chicago
BEGIN:DAYLIGHT
TZOFFSETFROM:-0600
TZOFFSETTO:-0500
TZNAME:CDT
DTSTART:20220313T080000
END:DAYLIGHT
BEGIN:STANDARD
TZOFFSETFROM:-0500
TZOFFSETTO:-0600
TZNAME:CST
DTSTART:20221106T070000
END:STANDARD
BEGIN:DAYLIGHT
TZOFFSETFROM:-0600
TZOFFSETTO:-0500
TZNAME:CDT
DTSTART:20230312T080000
END:DAYLIGHT
BEGIN:STANDARD
TZOFFSETFROM:-0500
TZOFFSETTO:-0600
TZNAME:CST
DTSTART:20231105T070000
END:STANDARD
BEGIN:DAYLIGHT
TZOFFSETFROM:-0600
TZOFFSETTO:-0500
TZNAME:CDT
DTSTART:20240310T080000
END:DAYLIGHT
BEGIN:STANDARD
TZOFFSETFROM:-0500
TZOFFSETTO:-0600
TZNAME:CST
DTSTART:20241103T070000
END:STANDARD
END:VTIMEZONE
BEGIN:VEVENT
DTSTART;TZID=America/Chicago:20230310T090000
DTEND;TZID=America/Chicago:20230310T110000
DTSTAMP:20260423T023848
CREATED:20220801T164939Z
LAST-MODIFIED:20250509T173011Z
UID:10000473-1678438800-1678446000@posgcd.org
SUMMARY:EarthKind Landscapes
DESCRIPTION:“Earth-Kind is an environmental stewardship program that uses proven\, research-based practices from a combination of organic and conventional approaches to create and maintain landscapes\, gardens\, and fruit plantings that provide for maximum enjoyment while minimizing maintenance and protecting our environment.”
URL:https://posgcd.org/event/ek-0323/
LOCATION:Post Oak Savannah GCD District Office\, 310 E Ave C\, Milano\, TX\, 76556\, United States
CATEGORIES:Workshops, Seminars, Summits
ORGANIZER;CN="Post Oak Savannah GCD":MAILTO:admin@posgcd.org
GEO:30.7110919;-96.8623241
X-APPLE-STRUCTURED-LOCATION;VALUE=URI;X-ADDRESS=Post Oak Savannah GCD District Office 310 E Ave C Milano TX 76556 United States;X-APPLE-RADIUS=500;X-TITLE=310 E Ave C:geo:-96.8623241,30.7110919
END:VEVENT
BEGIN:VEVENT
DTSTART;TZID=America/Chicago:20230310T113000
DTEND;TZID=America/Chicago:20230310T143000
DTSTAMP:20260423T023848
CREATED:20230221T153610Z
LAST-MODIFIED:20230308T144838Z
UID:10000407-1678447800-1678458600@posgcd.org
SUMMARY:Groundwater Basics Class
DESCRIPTION:Attendees will learn about groundwater/aquifer systems\, groundwater management\, the State water planning process\, the role of groundwater conservation districts\, and more. This class will be taught by the District’s General Manager\, Gary Westbrook. \n\n 
URL:https://posgcd.org/event/2023_gw101/
LOCATION:Post Oak Savannah GCD District Office\, 310 E Ave C\, Milano\, TX\, 76556\, United States
CATEGORIES:Workshops, Seminars, Summits
ORGANIZER;CN="Post Oak Savannah GCD":MAILTO:admin@posgcd.org
GEO:30.7110919;-96.8623241
X-APPLE-STRUCTURED-LOCATION;VALUE=URI;X-ADDRESS=Post Oak Savannah GCD District Office 310 E Ave C Milano TX 76556 United States;X-APPLE-RADIUS=500;X-TITLE=310 E Ave C:geo:-96.8623241,30.7110919
END:VEVENT
BEGIN:VEVENT
DTSTART;TZID=America/Chicago:20230314T173000
DTEND;TZID=America/Chicago:20230314T193000
DTSTAMP:20260423T023848
CREATED:20230310T152750Z
LAST-MODIFIED:20231227T172717Z
UID:10000409-1678815000-1678822200@posgcd.org
SUMMARY:March Board Meeting
DESCRIPTION:https://meet.goto.com/279724381  \nYou may also dial in for audio only using your phone at:\nUnited States: +1 (872) 240-3212\nAccess Code: 279-724-381 \nAgenda here. \nhttps://posgcd.org/agendas-minutes/agendas-minutes/
URL:https://posgcd.org/event/march-board-meeting-posgcd/
LOCATION:Post Oak Savannah GCD District Office\, 310 E Ave C\, Milano\, TX\, 76556\, United States
CATEGORIES:Board Meetings
ORGANIZER;CN="Post Oak Savannah GCD":MAILTO:admin@posgcd.org
GEO:30.7110919;-96.8623241
X-APPLE-STRUCTURED-LOCATION;VALUE=URI;X-ADDRESS=Post Oak Savannah GCD District Office 310 E Ave C Milano TX 76556 United States;X-APPLE-RADIUS=500;X-TITLE=310 E Ave C:geo:-96.8623241,30.7110919
END:VEVENT
END:VCALENDAR