BEGIN:VCALENDAR
VERSION:2.0
PRODID:-//Post Oak Savannah GCD - ECPv6.15.20//NONSGML v1.0//EN
CALSCALE:GREGORIAN
METHOD:PUBLISH
X-ORIGINAL-URL:https://posgcd.org
X-WR-CALDESC:Events for Post Oak Savannah GCD
REFRESH-INTERVAL;VALUE=DURATION:PT1H
X-Robots-Tag:noindex
X-PUBLISHED-TTL:PT1H
BEGIN:VTIMEZONE
TZID:America/Chicago
BEGIN:DAYLIGHT
TZOFFSETFROM:-0600
TZOFFSETTO:-0500
TZNAME:CDT
DTSTART:20220313T080000
END:DAYLIGHT
BEGIN:STANDARD
TZOFFSETFROM:-0500
TZOFFSETTO:-0600
TZNAME:CST
DTSTART:20221106T070000
END:STANDARD
BEGIN:DAYLIGHT
TZOFFSETFROM:-0600
TZOFFSETTO:-0500
TZNAME:CDT
DTSTART:20230312T080000
END:DAYLIGHT
BEGIN:STANDARD
TZOFFSETFROM:-0500
TZOFFSETTO:-0600
TZNAME:CST
DTSTART:20231105T070000
END:STANDARD
BEGIN:DAYLIGHT
TZOFFSETFROM:-0600
TZOFFSETTO:-0500
TZNAME:CDT
DTSTART:20240310T080000
END:DAYLIGHT
BEGIN:STANDARD
TZOFFSETFROM:-0500
TZOFFSETTO:-0600
TZNAME:CST
DTSTART:20241103T070000
END:STANDARD
END:VTIMEZONE
BEGIN:VEVENT
DTSTART;VALUE=DATE:20230102
DTEND;VALUE=DATE:20230103
DTSTAMP:20260422T235241
CREATED:20221222T161048Z
LAST-MODIFIED:20221222T161048Z
UID:10000397-1672617600-1672703999@posgcd.org
SUMMARY:Closed for New Years
DESCRIPTION:
URL:https://posgcd.org/event/closed-for-new-years/
LOCATION:Post Oak Savannah GCD District Office\, 310 E Ave C\, Milano\, TX\, 76556\, United States
GEO:30.7110919;-96.8623241
X-APPLE-STRUCTURED-LOCATION;VALUE=URI;X-ADDRESS=Post Oak Savannah GCD District Office 310 E Ave C Milano TX 76556 United States;X-APPLE-RADIUS=500;X-TITLE=310 E Ave C:geo:-96.8623241,30.7110919
END:VEVENT
BEGIN:VEVENT
DTSTART;TZID=America/Chicago:20230110T160000
DTEND;TZID=America/Chicago:20230110T170000
DTSTAMP:20260422T235241
CREATED:20230106T183532Z
LAST-MODIFIED:20231227T172908Z
UID:10000403-1673366400-1673370000@posgcd.org
SUMMARY:Rules Committee Meeting January 10\, 2023 4:00 pm
DESCRIPTION:https://posgcd.org/agendas-minutes/agendas-minutes/
URL:https://posgcd.org/event/rules-committee-meeting-january-10-2023-400-pm/
LOCATION:Post Oak Savannah GCD District Office\, 310 E Ave C\, Milano\, TX\, 76556\, United States
CATEGORIES:Committee Meetings
GEO:30.7110919;-96.8623241
X-APPLE-STRUCTURED-LOCATION;VALUE=URI;X-ADDRESS=Post Oak Savannah GCD District Office 310 E Ave C Milano TX 76556 United States;X-APPLE-RADIUS=500;X-TITLE=310 E Ave C:geo:-96.8623241,30.7110919
END:VEVENT
BEGIN:VEVENT
DTSTART;TZID=America/Chicago:20230110T173000
DTEND;TZID=America/Chicago:20230110T193000
DTSTAMP:20260422T235241
CREATED:20230105T202436Z
LAST-MODIFIED:20231227T172717Z
UID:10000399-1673371800-1673379000@posgcd.org
SUMMARY:January 10\, 2023 Board Meeting
DESCRIPTION:
URL:https://posgcd.org/event/january-10-2023-board-meeting/
LOCATION:Post Oak Savannah GCD District Office\, 310 E Ave C\, Milano\, TX\, 76556\, United States
CATEGORIES:Board Meetings
GEO:30.7110919;-96.8623241
X-APPLE-STRUCTURED-LOCATION;VALUE=URI;X-ADDRESS=Post Oak Savannah GCD District Office 310 E Ave C Milano TX 76556 United States;X-APPLE-RADIUS=500;X-TITLE=310 E Ave C:geo:-96.8623241,30.7110919
END:VEVENT
BEGIN:VEVENT
DTSTART;TZID=America/Chicago:20230119T173000
DTEND;TZID=America/Chicago:20230119T193000
DTSTAMP:20260422T235241
CREATED:20230105T232905Z
LAST-MODIFIED:20250509T173030Z
UID:10000401-1674149400-1674156600@posgcd.org
SUMMARY:January 19\, 2023\, Public Hearing (Rescheduled from January 10)
DESCRIPTION:https://posgcd.org/agendas-minutes/agendas-minutes/
URL:https://posgcd.org/event/january-19-2023-public-hearing-rescheduled-from-january-10/
LOCATION:Post Oak Savannah GCD District Office\, 310 E Ave C\, Milano\, TX\, 76556\, United States
CATEGORIES:Public Notices
GEO:30.7110919;-96.8623241
X-APPLE-STRUCTURED-LOCATION;VALUE=URI;X-ADDRESS=Post Oak Savannah GCD District Office 310 E Ave C Milano TX 76556 United States;X-APPLE-RADIUS=500;X-TITLE=310 E Ave C:geo:-96.8623241,30.7110919
END:VEVENT
END:VCALENDAR