BEGIN:VCALENDAR
VERSION:2.0
PRODID:-//Post Oak Savannah GCD - ECPv6.15.20//NONSGML v1.0//EN
CALSCALE:GREGORIAN
METHOD:PUBLISH
X-ORIGINAL-URL:https://posgcd.org
X-WR-CALDESC:Events for Post Oak Savannah GCD
REFRESH-INTERVAL;VALUE=DURATION:PT1H
X-Robots-Tag:noindex
X-PUBLISHED-TTL:PT1H
BEGIN:VTIMEZONE
TZID:America/Chicago
BEGIN:DAYLIGHT
TZOFFSETFROM:-0600
TZOFFSETTO:-0500
TZNAME:CDT
DTSTART:20210314T080000
END:DAYLIGHT
BEGIN:STANDARD
TZOFFSETFROM:-0500
TZOFFSETTO:-0600
TZNAME:CST
DTSTART:20211107T070000
END:STANDARD
BEGIN:DAYLIGHT
TZOFFSETFROM:-0600
TZOFFSETTO:-0500
TZNAME:CDT
DTSTART:20220313T080000
END:DAYLIGHT
BEGIN:STANDARD
TZOFFSETFROM:-0500
TZOFFSETTO:-0600
TZNAME:CST
DTSTART:20221106T070000
END:STANDARD
BEGIN:DAYLIGHT
TZOFFSETFROM:-0600
TZOFFSETTO:-0500
TZNAME:CDT
DTSTART:20230312T080000
END:DAYLIGHT
BEGIN:STANDARD
TZOFFSETFROM:-0500
TZOFFSETTO:-0600
TZNAME:CST
DTSTART:20231105T070000
END:STANDARD
END:VTIMEZONE
BEGIN:VEVENT
DTSTART;TZID=America/Chicago:20221102T090000
DTEND;TZID=America/Chicago:20221102T110000
DTSTAMP:20260422T204938
CREATED:20220801T163918Z
LAST-MODIFIED:20250509T173049Z
UID:10000471-1667379600-1667386800@posgcd.org
SUMMARY:Rainwater Harvesting 101
DESCRIPTION:
URL:https://posgcd.org/event/rwh-1122/
LOCATION:Post Oak Savannah GCD District Office\, 310 E Ave C\, Milano\, TX\, 76556\, United States
CATEGORIES:Rainwater Harvesting Programs
ORGANIZER;CN="Post Oak Savannah GCD":MAILTO:admin@posgcd.org
GEO:30.7110919;-96.8623241
X-APPLE-STRUCTURED-LOCATION;VALUE=URI;X-ADDRESS=Post Oak Savannah GCD District Office 310 E Ave C Milano TX 76556 United States;X-APPLE-RADIUS=500;X-TITLE=310 E Ave C:geo:-96.8623241,30.7110919
END:VEVENT
BEGIN:VEVENT
DTSTART;TZID=America/Chicago:20221115T153000
DTEND;TZID=America/Chicago:20221115T170000
DTSTAMP:20260422T204938
CREATED:20221111T212657Z
LAST-MODIFIED:20231227T172908Z
UID:10000482-1668526200-1668531600@posgcd.org
SUMMARY:DFC Committee Meeting\, November 15\, 2022 3:30
DESCRIPTION:https://posgcd.org/agendas-minutes/agendas-minutes/
URL:https://posgcd.org/event/dfc-committee-meeting-november-15-2022-330/
LOCATION:Post Oak Savannah GCD District Office\, 310 E Ave C\, Milano\, TX\, 76556\, United States
CATEGORIES:Committee Meetings
GEO:30.7110919;-96.8623241
X-APPLE-STRUCTURED-LOCATION;VALUE=URI;X-ADDRESS=Post Oak Savannah GCD District Office 310 E Ave C Milano TX 76556 United States;X-APPLE-RADIUS=500;X-TITLE=310 E Ave C:geo:-96.8623241,30.7110919
END:VEVENT
BEGIN:VEVENT
DTSTART;TZID=America/Chicago:20221115T173000
DTEND;TZID=America/Chicago:20221115T193000
DTSTAMP:20260422T204938
CREATED:20221014T182748Z
LAST-MODIFIED:20231227T172717Z
UID:10000480-1668533400-1668540600@posgcd.org
SUMMARY:November 15\, 2022 Board Meeting and Public Hearing
DESCRIPTION:https://posgcd.org/agendas-minutes/agendas-minutes/ \n 
URL:https://posgcd.org/event/november-15-2022-board-meeting-and-public-hearing/
LOCATION:Post Oak Savannah GCD District Office\, 310 E Ave C\, Milano\, TX\, 76556\, United States
CATEGORIES:Board Meetings
GEO:30.7110919;-96.8623241
X-APPLE-STRUCTURED-LOCATION;VALUE=URI;X-ADDRESS=Post Oak Savannah GCD District Office 310 E Ave C Milano TX 76556 United States;X-APPLE-RADIUS=500;X-TITLE=310 E Ave C:geo:-96.8623241,30.7110919
END:VEVENT
BEGIN:VEVENT
DTSTART;TZID=America/Chicago:20221118T100000
DTEND;TZID=America/Chicago:20221118T120000
DTSTAMP:20260422T204938
CREATED:20221104T205944Z
LAST-MODIFIED:20231227T172942Z
UID:10000481-1668765600-1668772800@posgcd.org
SUMMARY:November 18\, 2022 GMA 12 10:00 am
DESCRIPTION:https://posgcd.org/agendas-minutes/gma-12-agendas-minutes/ \n 
URL:https://posgcd.org/event/november-18-2022-gma-12-1000-am/
LOCATION:Post Oak Savannah GCD District Office\, 310 E Ave C\, Milano\, TX\, 76556\, United States
CATEGORIES:GMA Meetings
GEO:30.7110919;-96.8623241
X-APPLE-STRUCTURED-LOCATION;VALUE=URI;X-ADDRESS=Post Oak Savannah GCD District Office 310 E Ave C Milano TX 76556 United States;X-APPLE-RADIUS=500;X-TITLE=310 E Ave C:geo:-96.8623241,30.7110919
END:VEVENT
BEGIN:VEVENT
DTSTART;VALUE=DATE:20221124
DTEND;VALUE=DATE:20221126
DTSTAMP:20260422T204938
CREATED:20221121T201442Z
LAST-MODIFIED:20221121T205334Z
UID:10000483-1669248000-1669420799@posgcd.org
SUMMARY:Office closed
DESCRIPTION:The office will be closed to celebrate Thanksgiving.
URL:https://posgcd.org/event/office-closed-for-thanksgiving/
END:VEVENT
END:VCALENDAR