BEGIN:VCALENDAR
VERSION:2.0
PRODID:-//Post Oak Savannah GCD - ECPv6.15.20//NONSGML v1.0//EN
CALSCALE:GREGORIAN
METHOD:PUBLISH
X-ORIGINAL-URL:https://posgcd.org
X-WR-CALDESC:Events for Post Oak Savannah GCD
REFRESH-INTERVAL;VALUE=DURATION:PT1H
X-Robots-Tag:noindex
X-PUBLISHED-TTL:PT1H
BEGIN:VTIMEZONE
TZID:America/Chicago
BEGIN:DAYLIGHT
TZOFFSETFROM:-0600
TZOFFSETTO:-0500
TZNAME:CDT
DTSTART:20220313T080000
END:DAYLIGHT
BEGIN:STANDARD
TZOFFSETFROM:-0500
TZOFFSETTO:-0600
TZNAME:CST
DTSTART:20221106T070000
END:STANDARD
BEGIN:DAYLIGHT
TZOFFSETFROM:-0600
TZOFFSETTO:-0500
TZNAME:CDT
DTSTART:20230312T080000
END:DAYLIGHT
BEGIN:STANDARD
TZOFFSETFROM:-0500
TZOFFSETTO:-0600
TZNAME:CST
DTSTART:20231105T070000
END:STANDARD
BEGIN:DAYLIGHT
TZOFFSETFROM:-0600
TZOFFSETTO:-0500
TZNAME:CDT
DTSTART:20240310T080000
END:DAYLIGHT
BEGIN:STANDARD
TZOFFSETFROM:-0500
TZOFFSETTO:-0600
TZNAME:CST
DTSTART:20241103T070000
END:STANDARD
END:VTIMEZONE
BEGIN:VEVENT
DTSTART;TZID=America/Chicago:20231114T173000
DTEND;TZID=America/Chicago:20231114T193000
DTSTAMP:20260419T115131
CREATED:20231012T132424Z
LAST-MODIFIED:20231227T172717Z
UID:10000511-1699983000-1699990200@posgcd.org
SUMMARY:November 14\, 2023 Public Hearing and Board Meeting
DESCRIPTION:https://posgcd.org/agendas-minutes/agendas-minutes/
URL:https://posgcd.org/event/november-14-2023-public-hearing-and-board-meeting/
LOCATION:Post Oak Savannah GCD District Office\, 310 E Ave C\, Milano\, TX\, 76556\, United States
CATEGORIES:Board Meetings
GEO:30.7110919;-96.8623241
X-APPLE-STRUCTURED-LOCATION;VALUE=URI;X-ADDRESS=Post Oak Savannah GCD District Office 310 E Ave C Milano TX 76556 United States;X-APPLE-RADIUS=500;X-TITLE=310 E Ave C:geo:-96.8623241,30.7110919
END:VEVENT
BEGIN:VEVENT
DTSTART;TZID=America/Chicago:20231128T160000
DTEND;TZID=America/Chicago:20231128T173000
DTSTAMP:20260419T115131
CREATED:20231117T191637Z
LAST-MODIFIED:20231227T172908Z
UID:10000515-1701187200-1701192600@posgcd.org
SUMMARY:(Rescheduled) DFC Committee Meeting
DESCRIPTION:A DFC Committee Meeting was originally scheduled for Nov. 14\, 2023 and subsequently canceled due to lack of a quorum. It has been rescheduled for Nov. 28\, 2023. \nDFC Committee Mtg Agenda 11.28.2023
URL:https://posgcd.org/event/dfc-2311/
LOCATION:Post Oak Savannah GCD District Office\, 310 E Ave C\, Milano\, TX\, 76556\, United States
CATEGORIES:Board Meetings,Committee Meetings
GEO:30.7110919;-96.8623241
X-APPLE-STRUCTURED-LOCATION;VALUE=URI;X-ADDRESS=Post Oak Savannah GCD District Office 310 E Ave C Milano TX 76556 United States;X-APPLE-RADIUS=500;X-TITLE=310 E Ave C:geo:-96.8623241,30.7110919
END:VEVENT
BEGIN:VEVENT
DTSTART;TZID=America/Chicago:20231128T173000
DTEND;TZID=America/Chicago:20231128T193000
DTSTAMP:20260419T115131
CREATED:20231117T191758Z
LAST-MODIFIED:20231227T172717Z
UID:10000516-1701192600-1701199800@posgcd.org
SUMMARY:Rescheduled - Public Hearings & Board Meeting
DESCRIPTION:Public Hearings and the monthly Board Meeting was originally scheduled for Nov. 14\, 2023 and subsequently canceled due to lack of a quorum. These meetings have been rescheduled for Nov. 28\, 2023. \nPublic Hearing & Board Meeting Agenda 11.28.2023
URL:https://posgcd.org/event/ph-bm-2311/
LOCATION:Post Oak Savannah GCD District Office\, 310 E Ave C\, Milano\, TX\, 76556\, United States
CATEGORIES:Board Meetings
GEO:30.7110919;-96.8623241
X-APPLE-STRUCTURED-LOCATION;VALUE=URI;X-ADDRESS=Post Oak Savannah GCD District Office 310 E Ave C Milano TX 76556 United States;X-APPLE-RADIUS=500;X-TITLE=310 E Ave C:geo:-96.8623241,30.7110919
END:VEVENT
END:VCALENDAR