BEGIN:VCALENDAR
VERSION:2.0
PRODID:-//Post Oak Savannah GCD - ECPv6.15.20//NONSGML v1.0//EN
CALSCALE:GREGORIAN
METHOD:PUBLISH
X-WR-CALNAME:Post Oak Savannah GCD
X-ORIGINAL-URL:https://posgcd.org
X-WR-CALDESC:Events for Post Oak Savannah GCD
REFRESH-INTERVAL;VALUE=DURATION:PT1H
X-Robots-Tag:noindex
X-PUBLISHED-TTL:PT1H
BEGIN:VTIMEZONE
TZID:America/Chicago
BEGIN:DAYLIGHT
TZOFFSETFROM:-0600
TZOFFSETTO:-0500
TZNAME:CDT
DTSTART:20190310T080000
END:DAYLIGHT
BEGIN:STANDARD
TZOFFSETFROM:-0500
TZOFFSETTO:-0600
TZNAME:CST
DTSTART:20191103T070000
END:STANDARD
BEGIN:DAYLIGHT
TZOFFSETFROM:-0600
TZOFFSETTO:-0500
TZNAME:CDT
DTSTART:20200308T080000
END:DAYLIGHT
BEGIN:STANDARD
TZOFFSETFROM:-0500
TZOFFSETTO:-0600
TZNAME:CST
DTSTART:20201101T070000
END:STANDARD
BEGIN:DAYLIGHT
TZOFFSETFROM:-0600
TZOFFSETTO:-0500
TZNAME:CDT
DTSTART:20210314T080000
END:DAYLIGHT
BEGIN:STANDARD
TZOFFSETFROM:-0500
TZOFFSETTO:-0600
TZNAME:CST
DTSTART:20211107T070000
END:STANDARD
END:VTIMEZONE
BEGIN:VEVENT
DTSTART;TZID=America/Chicago:20201110T173000
DTEND;TZID=America/Chicago:20201110T193000
DTSTAMP:20260421T185016
CREATED:20201105T151220Z
LAST-MODIFIED:20250509T173746Z
UID:10000394-1605029400-1605036600@posgcd.org
SUMMARY:November 10\, 2020  Board Meeting and Public Hearing
DESCRIPTION:November 10\, 2020  Board Meeting and Public Hearing – Virtual Meeting \nhttps://qlobal.qotomeetinq.com/join/959783781 \nYou may also dial in for audio only using your phone at: \nUnited States: +1 (646) 749-3112 \nAccess Code: 959-783-781 \n\nVideo of GoToMeeting Video of Board Meeting November 10\, 2020\nPrintable Agenda\nNotice of Public Hearing\nBudget Notes for Nov Meeting\n2021 Draft Budget and 2020 Budget Amendments\nAgenda Preview\nSchedule of fees\nMinutes 10.13.20 [Draft]\nResolution Debit Card for Craig Andrews\nFinancial Status 11.10.2020\nBills 11.10.2020\nEngagement Letter from Alton Thiele\nMonitoring Presentation\nIntera Presentation
URL:https://posgcd.org/event/november-10-2020-board-meeting-and-public-hearing/
LOCATION:Post Oak Savannah GCD District Office\, 310 E Ave C\, Milano\, TX\, 76556\, United States
CATEGORIES:Board Meetings,Public Notices
GEO:30.7110919;-96.8623241
X-APPLE-STRUCTURED-LOCATION;VALUE=URI;X-ADDRESS=Post Oak Savannah GCD District Office 310 E Ave C Milano TX 76556 United States;X-APPLE-RADIUS=500;X-TITLE=310 E Ave C:geo:-96.8623241,30.7110919
END:VEVENT
END:VCALENDAR